BEGIN:VCALENDAR
VERSION:2.0
PRODID:-//MELANIE Nini BONG - ECPv5.1.5//NONSGML v1.0//EN
CALSCALE:GREGORIAN
METHOD:PUBLISH
X-WR-CALNAME:MELANIE Nini BONG
X-ORIGINAL-URL:http://wordpress.melaniebong.com
X-WR-CALDESC:Veranstaltungen für MELANIE Nini BONG
BEGIN:VTIMEZONE
TZID:Europe/Berlin
BEGIN:DAYLIGHT
TZOFFSETFROM:+0100
TZOFFSETTO:+0200
TZNAME:CEST
DTSTART:20200329T010000
END:DAYLIGHT
BEGIN:STANDARD
TZOFFSETFROM:+0200
TZOFFSETTO:+0100
TZNAME:CET
DTSTART:20201025T010000
END:STANDARD
END:VTIMEZONE
BEGIN:VEVENT
DTSTART;TZID=Europe/Berlin:20201113T000000
DTEND;TZID=Europe/Berlin:20201113T235959
DTSTAMP:20260420T095937
CREATED:20200619T114420Z
LAST-MODIFIED:20200715T145556Z
UID:124-1605225600-1605311999@wordpress.melaniebong.com
SUMMARY:Melanie Bong Quartet - GIPSY FIRE
DESCRIPTION:
URL:http://wordpress.melaniebong.com/event/melanie-bong-quartet-gipsy-fire-2/
CATEGORIES:GIPSY FIRE
END:VEVENT
END:VCALENDAR