BEGIN:VCALENDAR
VERSION:2.0
PRODID:-//MELANIE Nini BONG - ECPv5.1.5//NONSGML v1.0//EN
CALSCALE:GREGORIAN
METHOD:PUBLISH
X-WR-CALNAME:MELANIE Nini BONG
X-ORIGINAL-URL:http://wordpress.melaniebong.com
X-WR-CALDESC:Veranstaltungen für MELANIE Nini BONG
BEGIN:VTIMEZONE
TZID:Europe/Berlin
BEGIN:DAYLIGHT
TZOFFSETFROM:+0100
TZOFFSETTO:+0200
TZNAME:CEST
DTSTART:20200329T010000
END:DAYLIGHT
BEGIN:STANDARD
TZOFFSETFROM:+0200
TZOFFSETTO:+0100
TZNAME:CET
DTSTART:20201025T010000
END:STANDARD
END:VTIMEZONE
BEGIN:VEVENT
DTSTART;TZID=Europe/Berlin:20200619T080000
DTEND;TZID=Europe/Berlin:20200619T170000
DTSTAMP:20260420T082150
CREATED:20200619T114250Z
LAST-MODIFIED:20200626T062847Z
UID:122-1592553600-1592586000@wordpress.melaniebong.com
SUMMARY:Melanie Bong Quartet - GIPSY FIRE
DESCRIPTION:MELANIE BONG – Gipsy Fire QUARTET „Ausnahme-Stimme trifft hier auf virtuose Mitstreiter…“ – Fränkische Zeitung „Elis Regina had it\, Billie Holiday had it\, Carmen McRae had it\, and now Melanie Bong has it.“ – William Grim for All About Jazz „Melanie Bong… \n
URL:http://wordpress.melaniebong.com/event/melanie-bong-quartet-gipsy-fire/
CATEGORIES:GIPSY FIRE
ATTACH;FMTTYPE=image/jpeg:http://wordpress.melaniebong.com/wp-content/uploads/2020/06/71f23d_18396e311da64f81ad7c17dc78cc4865mv21.jpg
END:VEVENT
END:VCALENDAR